BEGIN:VCALENDAR
VERSION:2.0
PRODID:-//Wurdinger Manufacturing - ECPv6.15.15//NONSGML v1.0//EN
CALSCALE:GREGORIAN
METHOD:PUBLISH
X-WR-CALNAME:Wurdinger Manufacturing
X-ORIGINAL-URL:https://wurdingermanufacturing.com
X-WR-CALDESC:Events for Wurdinger Manufacturing
REFRESH-INTERVAL;VALUE=DURATION:PT1H
X-Robots-Tag:noindex
X-PUBLISHED-TTL:PT1H
BEGIN:VTIMEZONE
TZID:America/Los_Angeles
BEGIN:DAYLIGHT
TZOFFSETFROM:-0800
TZOFFSETTO:-0700
TZNAME:PDT
DTSTART:20250309T100000
END:DAYLIGHT
BEGIN:STANDARD
TZOFFSETFROM:-0700
TZOFFSETTO:-0800
TZNAME:PST
DTSTART:20251102T090000
END:STANDARD
BEGIN:DAYLIGHT
TZOFFSETFROM:-0800
TZOFFSETTO:-0700
TZNAME:PDT
DTSTART:20260308T100000
END:DAYLIGHT
BEGIN:STANDARD
TZOFFSETFROM:-0700
TZOFFSETTO:-0800
TZNAME:PST
DTSTART:20261101T090000
END:STANDARD
BEGIN:DAYLIGHT
TZOFFSETFROM:-0800
TZOFFSETTO:-0700
TZNAME:PDT
DTSTART:20270314T100000
END:DAYLIGHT
BEGIN:STANDARD
TZOFFSETFROM:-0700
TZOFFSETTO:-0800
TZNAME:PST
DTSTART:20271107T090000
END:STANDARD
END:VTIMEZONE
BEGIN:VEVENT
DTSTART;TZID=America/Los_Angeles:20260306T110000
DTEND;TZID=America/Los_Angeles:20260306T150000
DTSTAMP:20260420T114935
CREATED:20260206T072540Z
LAST-MODIFIED:20260223T151215Z
UID:924-1772794800-1772809200@wurdingermanufacturing.com
SUMMARY:Dinger Daze: In-House Equipment & Innovation Event
DESCRIPTION:Join us for Dinger Daze\, Wurdinger Manufacturing’s in-house event dedicated to helping growers and operators reduce labor costs through smart innovation\, automation\, and mechanization. Explore cutting-edge equipment\, connect with industry partners\, and discover practical solutions designed to improve efficiency across your operation. \nEvent Details Section:\n\n📅 Date: Friday\, March 6th\, 2026\n⏰ Time: 11:00 AM – 3:00 PM\n📍 Location:\n\nWurdinger Manufacturing4730 Brush Creek Drive NESilverton\, OR 97381\n\n\n\nWhat to Expect:\n\nEquipment demonstrations\nSolutions designed to reduce labor and improve efficiency\nVendor showcases\nRaffle prizes throughout the event\nLunch on us\n\nVendors Include:\nPAF\, Willamette Valley Pie Co.\, TeeJet Technologies\, George Packing Co. (Hazelnuts)\, Smucker Manufacturing\, and more. \nRSVP & Raffle Info\n✔️ Walk-ins are welcome — raffle tickets will be available for purchase at the event for $5 each \n\n \n 
URL:https://wurdingermanufacturing.com/event/dinger-daze-in-house-equipment-innovation-event/
LOCATION:Wurdinger Manufacturing Inc\, 4730 Brush Creek Dr NE\, Silverton\, Oregon\, 97381\, United States
CATEGORIES:Agricultural Events,Equipment Demonstrations,In-House Events
ATTACH;FMTTYPE=image/png:https://wurdingermanufacturing.com/wp-content/uploads/2026/02/Dinger-Daze-In-House-Event.png
ORGANIZER;CN="Wurdinger Manufacturing":MAILTO:aage@wurdingermanufacturing.com
END:VEVENT
BEGIN:VEVENT
DTSTART;TZID=America/Los_Angeles:20260425T083000
DTEND;TZID=America/Los_Angeles:20260426T170000
DTSTAMP:20260420T114935
CREATED:20260331T131809Z
LAST-MODIFIED:20260331T132845Z
UID:996-1777105800-1777222800@wurdingermanufacturing.com
SUMMARY:Oregon Ag Fest 2026
DESCRIPTION:Oregon Ag Fest 2026\nApril 25 @ 8:30 am – April 26 @ 5:00 pmPaid Event \nWurdinger Manufacturing @ Oregon Ag Fest | Salem\, OR\nJoin Wurdinger Manufacturing at the 39th annual Oregon Ag Fest\, a family-friendly celebration of Oregon’s rich agricultural industry. Come visit our booth to explore innovative equipment and solutions designed to improve efficiency and support growers across the region. \nBring the whole family and experience hands-on activities\, live demonstrations\, and interactive exhibits that highlight where our food\, fiber\, and flora come from. \n \n\nEvent Details Section:\n📅 Date: Saturday & Sunday\, April 25–26\, 2026⏰ Time:• Saturday: 8:30 AM – 5:00 PM• Sunday: 10:00 AM – 5:00 PM📍 Location:Oregon State Fairgrounds2330 17th St NESalem\, OR 97301 \n\nWhat to Expect:\n\nVisit the Wurdinger Manufacturing booth\nLearn about equipment and solutions for growers\nHands-on agricultural exhibits and demonstrations\nFamily-friendly activities and entertainment\nOver 25 interactive activities for kids\n\n\nTicket Info:\n🎟️ Ages 16 & Up: $15.00 (+ fees)🎟️ Children 15 & Under: FREE🚗 Free parking available on-site \n\nAbout the Event:\nOregon Ag Fest is a two-day interactive event designed to connect families with the world of agriculture. From planting seedlings and petting farm animals to watching live demonstrations\, it’s an educational and entertaining experience for all ages. \n \n 
URL:https://wurdingermanufacturing.com/event/oregon-ag-fest-2026/
LOCATION:Oregon State Fairgrounds\, 2330 17th St NE\, Salem\, 97301\, United States
CATEGORIES:Agricultural Events,Trade Shows
ATTACH;FMTTYPE=image/jpeg:https://wurdingermanufacturing.com/wp-content/uploads/2026/03/158991038_10160999770272846_3763759103571611759_n.jpg
END:VEVENT
BEGIN:VEVENT
DTSTART;VALUE=DATE:20260826
DTEND;VALUE=DATE:20260829
DTSTAMP:20260420T114935
CREATED:20260331T134505Z
LAST-MODIFIED:20260331T135638Z
UID:1001-1787702400-1787961599@wurdingermanufacturing.com
SUMMARY:Farwest Show 2026
DESCRIPTION:Farwest Show 2026\nAugust 26 @ 12:00 pm – August 28 @ 2:00 pmRegistration Required \nWurdinger Manufacturing @ Farwest Show 2026 | Portland\, OR\nSave the date! Wurdinger Manufacturing will be heading to the Farwest Show 2026 — the biggest and greenest nursery and greenhouse industry trade show in the West. \nJoin us this August in Portland\, OR as top growers\, suppliers\, and industry leaders come together to connect\, discover new products\, and explore the latest trends shaping the future of agriculture. \nWe’ll be sharing more details soon on how you can connect with our team at the show — stay tuned! \n \n\nEvent Details Section:\n📅 Date: August 26–28\, 2026⏰ Time:• Wednesday: 12:00 PM – 5:00 PM• Thursday: 10:00 AM – 5:00 PM• Friday: 10:00 AM – 2:00 PM📍 Location:Oregon Convention CenterPortland\, OR \n\nWhat to Expect:\n\n4\,000+ industry professionals and decision-makers\n350+ exhibitors across plants\, products\, and services\nNetworking opportunities with key industry players\nLatest trends in nursery and greenhouse operations\n\n \n\nMore Details Coming Soon\nWe’ll be announcing booth details\, featured equipment\, and more — keep an eye out!
URL:https://wurdingermanufacturing.com/event/farwest-show-2026/
LOCATION:Oregon Convention Center\, Portland\, OR\, United States
CATEGORIES:Agricultural Events,Trade Shows
ATTACH;FMTTYPE=image/png:https://wurdingermanufacturing.com/wp-content/uploads/2026/03/The-Oregon-Association-of-Nurseries-OAN-announced-it-is-accepting-speaker-proposals-for-the-2026-Farwest-Show.png
END:VEVENT
END:VCALENDAR